Package: PRONE Version: 1.3.1 Command: chmod a+r PRONE -R && F:\biocbuild\bbs-3.22-bioc\R\bin\R.exe CMD build --keep-empty-dirs --no-resave-data PRONE StartedAt: 2025-08-14 22:28:34 -0400 (Thu, 14 Aug 2025) EndedAt: 2025-08-14 22:32:09 -0400 (Thu, 14 Aug 2025) EllapsedTime: 215.1 seconds RetCode: 0 Status: OK PackageFile: PRONE_1.3.1.tar.gz PackageFileSize: 6.28 MiB