Package: PROMISE Version: 1.59.0 Command: /home/biocbuild/bbs-3.21-bioc/R/bin/R CMD check --install=check:PROMISE.install-out.txt --library=/home/biocbuild/bbs-3.21-bioc/R/site-library --timings PROMISE_1.59.0.tar.gz StartedAt: 2025-02-15 01:09:34 -0500 (Sat, 15 Feb 2025) EndedAt: 2025-02-15 01:11:29 -0500 (Sat, 15 Feb 2025) EllapsedTime: 115.1 seconds RetCode: 0 Status: OK CheckDir: PROMISE.Rcheck Warnings: 0