Package: PROMISE Version: 1.59.0 Command: /Library/Frameworks/R.framework/Resources/bin/R CMD INSTALL PROMISE StartedAt: 2025-02-14 15:15:47 -0500 (Fri, 14 Feb 2025) EndedAt: 2025-02-14 15:16:08 -0500 (Fri, 14 Feb 2025) EllapsedTime: 21.1 seconds RetCode: 0 Status: OK