Package: PPInfer Version: 1.35.0 Command: chmod a+r PPInfer -R && F:\biocbuild\bbs-3.22-bioc\R\bin\R.exe CMD build --keep-empty-dirs --no-resave-data PPInfer StartedAt: 2025-08-14 22:25:29 -0400 (Thu, 14 Aug 2025) EndedAt: 2025-08-14 22:26:39 -0400 (Thu, 14 Aug 2025) EllapsedTime: 70.0 seconds RetCode: 0 Status: OK PackageFile: PPInfer_1.35.0.tar.gz PackageFileSize: 207 KiB