Package: PPInfer Version: 1.35.0 Command: rm -rf PPInfer.buildbin-libdir && mkdir PPInfer.buildbin-libdir && F:\biocbuild\bbs-3.22-bioc\R\bin\R.exe CMD INSTALL --build --library=PPInfer.buildbin-libdir PPInfer_1.35.0.tar.gz StartedAt: 2025-08-15 10:59:09 -0400 (Fri, 15 Aug 2025) EndedAt: 2025-08-15 10:59:37 -0400 (Fri, 15 Aug 2025) EllapsedTime: 27.8 seconds RetCode: 0 Status: OK PackageFile: PPInfer_1.35.0.zip PackageFileSize: 268.9 KiB