Package: PPInfer Version: 1.35.0 Command: /Library/Frameworks/R.framework/Resources/bin/R CMD build --keep-empty-dirs --no-resave-data PPInfer StartedAt: 2025-05-06 17:56:39 -0400 (Tue, 06 May 2025) EndedAt: 2025-05-06 17:59:13 -0400 (Tue, 06 May 2025) EllapsedTime: 154.2 seconds RetCode: 0 Status: OK PackageFile: PPInfer_1.35.0.tar.gz PackageFileSize: 326 KiB