Package: PPInfer Version: 1.35.0 Command: rm -rf PPInfer.buildbin-libdir && mkdir PPInfer.buildbin-libdir && /Users/biocbuild/BBS/utils/build-universal.sh PPInfer_1.35.0.tar.gz /Library/Frameworks/R.framework/Resources/bin/R PPInfer.buildbin-libdir StartedAt: 2025-05-07 00:58:27 -0400 (Wed, 07 May 2025) EndedAt: 2025-05-07 00:59:00 -0400 (Wed, 07 May 2025) EllapsedTime: 33.5 seconds RetCode: 0 Status: OK PackageFile: PPInfer_1.35.0.tgz PackageFileSize: 387.1 KiB