Package: PPInfer Version: 1.35.0 Command: /Library/Frameworks/R.framework/Resources/bin/R CMD INSTALL PPInfer StartedAt: 2025-05-07 15:10:33 -0400 (Wed, 07 May 2025) EndedAt: 2025-05-07 15:10:42 -0400 (Wed, 07 May 2025) EllapsedTime: 9.4 seconds RetCode: 0 Status: OK