Package: PPInfer Version: 1.35.0 Command: /Library/Frameworks/R.framework/Resources/bin/R CMD check --install=check:PPInfer.install-out.txt --library=/Library/Frameworks/R.framework/Resources/library --no-vignettes --timings PPInfer_1.35.0.tar.gz StartedAt: 2025-05-08 21:16:03 -0400 (Thu, 08 May 2025) EndedAt: 2025-05-08 21:20:48 -0400 (Thu, 08 May 2025) EllapsedTime: 285.4 seconds RetCode: 0 Status: OK CheckDir: PPInfer.Rcheck Warnings: 0