Package: PPInfer Version: 1.35.0 Command: rm -rf PPInfer.buildbin-libdir && mkdir PPInfer.buildbin-libdir && /Users/biocbuild/BBS/utils/build-universal.sh PPInfer_1.35.0.tar.gz /Library/Frameworks/R.framework/Resources/bin/R PPInfer.buildbin-libdir StartedAt: 2025-05-08 23:24:57 -0400 (Thu, 08 May 2025) EndedAt: 2025-05-08 23:25:08 -0400 (Thu, 08 May 2025) EllapsedTime: 11.2 seconds RetCode: 0 Status: OK PackageFile: PPInfer_1.35.0.tgz PackageFileSize: 387.9 KiB