Package: POWSC Version: 1.17.0 Command: rm -rf POWSC.buildbin-libdir && mkdir POWSC.buildbin-libdir && F:\biocbuild\bbs-3.22-bioc\R\bin\R.exe CMD INSTALL --build --library=POWSC.buildbin-libdir POWSC_1.17.0.tar.gz StartedAt: 2025-08-15 10:58:55 -0400 (Fri, 15 Aug 2025) EndedAt: 2025-08-15 10:59:31 -0400 (Fri, 15 Aug 2025) EllapsedTime: 36.6 seconds RetCode: 0 Status: OK PackageFile: POWSC_1.17.0.zip PackageFileSize: 1.338 MiB