Package: POWSC Version: 1.15.0 Command: /home/biocbuild/R/R/bin/R CMD build --keep-empty-dirs --no-resave-data POWSC StartedAt: 2025-01-29 01:19:54 -0000 (Wed, 29 Jan 2025) EndedAt: 2025-01-29 01:21:50 -0000 (Wed, 29 Jan 2025) EllapsedTime: 116.1 seconds RetCode: 0 Status: OK PackageFile: POWSC_1.15.0.tar.gz PackageFileSize: 1.171 MiB