Package: POMA Version: 1.19.0 Command: chmod a+r POMA -R && F:\biocbuild\bbs-3.22-bioc\R\bin\R.exe CMD build --keep-empty-dirs --no-resave-data POMA StartedAt: 2025-08-14 22:24:40 -0400 (Thu, 14 Aug 2025) EndedAt: 2025-08-14 22:26:56 -0400 (Thu, 14 Aug 2025) EllapsedTime: 135.9 seconds RetCode: 0 Status: OK PackageFile: POMA_1.19.0.tar.gz PackageFileSize: 1.118 MiB