Package: POMA Version: 1.19.0 Command: rm -rf POMA.buildbin-libdir && mkdir POMA.buildbin-libdir && F:\biocbuild\bbs-3.22-bioc\R\bin\R.exe CMD INSTALL --build --library=POMA.buildbin-libdir POMA_1.19.0.tar.gz StartedAt: 2025-08-15 10:58:46 -0400 (Fri, 15 Aug 2025) EndedAt: 2025-08-15 10:59:07 -0400 (Fri, 15 Aug 2025) EllapsedTime: 21.9 seconds RetCode: 0 Status: OK PackageFile: POMA_1.19.0.zip PackageFileSize: 1.272 MiB