Package: PMScanR Version: 0.99.6 Command: /home/biocbuild/R/R/bin/R CMD INSTALL PMScanR StartedAt: 2025-10-23 20:55:48 -0000 (Thu, 23 Oct 2025) EndedAt: 2025-10-23 20:56:34 -0000 (Thu, 23 Oct 2025) EllapsedTime: 45.9 seconds RetCode: 0 Status: OK