Package: PMScanR Version: 0.99.6 Command: /home/biocbuild/R/R/bin/R CMD build --keep-empty-dirs --no-resave-data PMScanR StartedAt: 2025-10-21 02:06:17 -0000 (Tue, 21 Oct 2025) EndedAt: 2025-10-21 02:07:37 -0000 (Tue, 21 Oct 2025) EllapsedTime: 80.0 seconds RetCode: 0 Status: OK PackageFile: PMScanR_0.99.6.tar.gz PackageFileSize: 2.183 MiB