Package: PMScanR Version: 0.99.6 Command: /Library/Frameworks/R.framework/Resources/bin/R CMD INSTALL PMScanR StartedAt: 2025-10-10 15:35:02 -0400 (Fri, 10 Oct 2025) EndedAt: 2025-10-10 15:35:50 -0400 (Fri, 10 Oct 2025) EllapsedTime: 47.9 seconds RetCode: 0 Status: OK