Package: PMScanR Version: 0.99.6 Command: /Library/Frameworks/R.framework/Resources/bin/R CMD INSTALL PMScanR StartedAt: 2025-10-07 15:18:08 -0400 (Tue, 07 Oct 2025) EndedAt: 2025-10-07 15:18:23 -0400 (Tue, 07 Oct 2025) EllapsedTime: 14.8 seconds RetCode: 0 Status: OK