Package: PMScanR Version: 0.99.6 Command: /Library/Frameworks/R.framework/Resources/bin/R CMD build --keep-empty-dirs --no-resave-data PMScanR StartedAt: 2025-10-07 17:23:27 -0400 (Tue, 07 Oct 2025) EndedAt: 2025-10-07 17:23:52 -0400 (Tue, 07 Oct 2025) EllapsedTime: 25.3 seconds RetCode: 0 Status: OK PackageFile: PMScanR_0.99.6.tar.gz PackageFileSize: 1.945 MiB