Package: PLSDAbatch Version: 1.5.0 Command: rm -rf PLSDAbatch.buildbin-libdir && mkdir PLSDAbatch.buildbin-libdir && F:\biocbuild\bbs-3.22-bioc\R\bin\R.exe CMD INSTALL --build --library=PLSDAbatch.buildbin-libdir PLSDAbatch_1.5.0.tar.gz StartedAt: 2025-08-15 10:58:18 -0400 (Fri, 15 Aug 2025) EndedAt: 2025-08-15 10:59:14 -0400 (Fri, 15 Aug 2025) EllapsedTime: 56.4 seconds RetCode: 0 Status: OK PackageFile: PLSDAbatch_1.5.0.zip PackageFileSize: 1.228 MiB