Package: PLSDAbatch Version: 1.5.0 Command: /Library/Frameworks/R.framework/Resources/bin/R CMD INSTALL PLSDAbatch StartedAt: 2025-05-08 15:25:44 -0400 (Thu, 08 May 2025) EndedAt: 2025-05-08 15:26:42 -0400 (Thu, 08 May 2025) EllapsedTime: 58.6 seconds RetCode: 0 Status: OK