Package: PLSDAbatch Version: 1.5.0 Command: /Library/Frameworks/R.framework/Resources/bin/R CMD check --install=check:PLSDAbatch.install-out.txt --library=/Library/Frameworks/R.framework/Resources/library --no-vignettes --timings PLSDAbatch_1.5.0.tar.gz StartedAt: 2025-05-09 22:42:52 -0400 (Fri, 09 May 2025) EndedAt: 2025-05-09 22:47:52 -0400 (Fri, 09 May 2025) EllapsedTime: 299.3 seconds RetCode: 0 Status: OK CheckDir: PLSDAbatch.Rcheck Warnings: 0