Package: PLPE Version: 1.67.0 Command: E:\biocbuild\bbs-3.21-bioc\R\bin\R.exe CMD INSTALL PLPE StartedAt: 2025-02-03 15:38:22 -0500 (Mon, 03 Feb 2025) EndedAt: 2025-02-03 15:38:33 -0500 (Mon, 03 Feb 2025) EllapsedTime: 11.5 seconds RetCode: 0 Status: OK