Package: PLPE Version: 1.69.0 Command: /home/biocbuild/bbs-3.22-bioc/R/bin/R CMD INSTALL PLPE StartedAt: 2025-10-05 15:13:18 -0400 (Sun, 05 Oct 2025) EndedAt: 2025-10-05 15:13:22 -0400 (Sun, 05 Oct 2025) EllapsedTime: 3.8 seconds RetCode: 0 Status: OK