Package: PLPE Version: 1.69.0 Command: /home/biocbuild/bbs-3.22-bioc/R/bin/R CMD build --keep-empty-dirs --no-resave-data --md5 PLPE StartedAt: 2025-10-03 19:17:59 -0400 (Fri, 03 Oct 2025) EndedAt: 2025-10-03 19:18:07 -0400 (Fri, 03 Oct 2025) EllapsedTime: 8.0 seconds RetCode: 0 Status: OK PackageFile: PLPE_1.69.0.tar.gz PackageFileSize: 264.1 KiB