Package: PLPE Version: 1.67.0 Command: /home/biocbuild/bbs-3.21-bioc/R/bin/R CMD INSTALL PLPE StartedAt: 2025-02-03 15:22:47 -0500 (Mon, 03 Feb 2025) EndedAt: 2025-02-03 15:22:50 -0500 (Mon, 03 Feb 2025) EllapsedTime: 2.8 seconds RetCode: 0 Status: OK