Package: PLPE Version: 1.67.0 Command: /Library/Frameworks/R.framework/Resources/bin/R CMD check --install=check:PLPE.install-out.txt --library=/Library/Frameworks/R.framework/Resources/library --no-vignettes --timings PLPE_1.67.0.tar.gz StartedAt: 2025-02-03 22:29:19 -0500 (Mon, 03 Feb 2025) EndedAt: 2025-02-03 22:29:58 -0500 (Mon, 03 Feb 2025) EllapsedTime: 39.1 seconds RetCode: 0 Status: OK CheckDir: PLPE.Rcheck Warnings: 0