Package: PLPE Version: 1.67.0 Command: rm -rf PLPE.buildbin-libdir && mkdir PLPE.buildbin-libdir && /Users/biocbuild/BBS/utils/build-universal.sh PLPE_1.67.0.tar.gz /Library/Frameworks/R.framework/Resources/bin/R PLPE.buildbin-libdir StartedAt: 2025-02-04 00:48:53 -0500 (Tue, 04 Feb 2025) EndedAt: 2025-02-04 00:49:00 -0500 (Tue, 04 Feb 2025) EllapsedTime: 7.0 seconds RetCode: 0 Status: OK PackageFile: PLPE_1.67.0.tgz PackageFileSize: 301 KiB