Package: PLPE Version: 1.67.0 Command: /home/biocbuild/R/R/bin/R CMD INSTALL PLPE StartedAt: 2025-01-29 19:31:40 -0000 (Wed, 29 Jan 2025) EndedAt: 2025-01-29 19:32:12 -0000 (Wed, 29 Jan 2025) EllapsedTime: 31.5 seconds RetCode: 0 Status: OK