Package: PIUMA Version: 1.5.0 Command: /home/biocbuild/R/R/bin/R CMD build --keep-empty-dirs --no-resave-data PIUMA StartedAt: 2025-10-17 03:34:15 -0000 (Fri, 17 Oct 2025) EndedAt: 2025-10-17 03:35:55 -0000 (Fri, 17 Oct 2025) EllapsedTime: 100.0 seconds RetCode: 1 Status: ERROR PackageFile: None PackageFileSize: NA