Package: PIPETS Version: 1.3.0 Command: chmod a+r PIPETS -R && E:\biocbuild\bbs-3.21-bioc\R\bin\R.exe CMD build --keep-empty-dirs --no-resave-data PIPETS StartedAt: 2025-02-03 20:58:30 -0500 (Mon, 03 Feb 2025) EndedAt: 2025-02-03 20:58:55 -0500 (Mon, 03 Feb 2025) EllapsedTime: 25.1 seconds RetCode: 0 Status: OK PackageFile: PIPETS_1.3.0.tar.gz PackageFileSize: 2.882 MiB