Package: PIPETS Version: 1.5.0 Command: /home/biocbuild/bbs-3.22-bioc/R/bin/R CMD INSTALL PIPETS StartedAt: 2025-09-28 15:38:10 -0400 (Sun, 28 Sep 2025) EndedAt: 2025-09-28 15:38:21 -0400 (Sun, 28 Sep 2025) EllapsedTime: 10.7 seconds RetCode: 0 Status: OK