Package: PIPETS Version: 1.3.0 Command: /home/biocbuild/bbs-3.21-bioc/R/bin/R CMD INSTALL PIPETS StartedAt: 2025-02-03 15:32:28 -0500 (Mon, 03 Feb 2025) EndedAt: 2025-02-03 15:32:38 -0500 (Mon, 03 Feb 2025) EllapsedTime: 10.4 seconds RetCode: 0 Status: OK