Package: PIPETS Version: 1.3.0 Command: /home/biocbuild/bbs-3.21-bioc/R/bin/R CMD build --keep-empty-dirs --no-resave-data PIPETS StartedAt: 2025-02-03 18:48:58 -0500 (Mon, 03 Feb 2025) EndedAt: 2025-02-03 18:49:17 -0500 (Mon, 03 Feb 2025) EllapsedTime: 19.0 seconds RetCode: 0 Status: OK PackageFile: PIPETS_1.3.0.tar.gz PackageFileSize: 2.882 MiB