Package: PIPETS Version: 1.3.0 Command: /home/biocbuild/R/R/bin/R CMD build --keep-empty-dirs --no-resave-data PIPETS StartedAt: 2025-01-29 01:17:36 -0000 (Wed, 29 Jan 2025) EndedAt: 2025-01-29 01:18:04 -0000 (Wed, 29 Jan 2025) EllapsedTime: 27.0 seconds RetCode: 0 Status: OK PackageFile: PIPETS_1.3.0.tar.gz PackageFileSize: 2.948 MiB