Package: PING Version: 2.51.0 Command: E:\biocbuild\bbs-3.21-bioc\R\bin\R.exe CMD INSTALL PING StartedAt: 2025-02-02 16:59:21 -0500 (Sun, 02 Feb 2025) EndedAt: 2025-02-02 16:59:23 -0500 (Sun, 02 Feb 2025) EllapsedTime: 1.9 seconds RetCode: 1 Status: ERROR