############################################################################## ############################################################################## ### ### Running command: ### ### rm -rf PING.buildbin-libdir && mkdir PING.buildbin-libdir && E:\biocbuild\bbs-3.21-bioc\R\bin\R.exe CMD INSTALL --build --library=PING.buildbin-libdir PING_2.51.0.tar.gz ### ############################################################################## ############################################################################## ERROR: dependency 'PICS' is not available for package 'PING' Perhaps try a variation of: install.packages('PICS') * removing 'E:/biocbuild/bbs-3.21-bioc/meat/PING.buildbin-libdir/PING'