Package: PING Version: 2.51.0 Command: /home/biocbuild/bbs-3.21-bioc/R/bin/R CMD INSTALL PING StartedAt: 2025-02-18 15:45:11 -0500 (Tue, 18 Feb 2025) EndedAt: 2025-02-18 15:45:12 -0500 (Tue, 18 Feb 2025) EllapsedTime: 1.0 seconds RetCode: 1 Status: ERROR