Package: PICS Version: 2.51.0 Command: E:\biocbuild\bbs-3.21-bioc\R\bin\R.exe CMD INSTALL PICS StartedAt: 2025-02-14 15:54:26 -0500 (Fri, 14 Feb 2025) EndedAt: 2025-02-14 15:54:38 -0500 (Fri, 14 Feb 2025) EllapsedTime: 11.4 seconds RetCode: 1 Status: ERROR