Package: PICS Version: 2.51.0 Command: /home/biocbuild/bbs-3.21-bioc/R/bin/R CMD INSTALL PICS StartedAt: 2025-02-16 15:31:06 -0500 (Sun, 16 Feb 2025) EndedAt: 2025-02-16 15:31:10 -0500 (Sun, 16 Feb 2025) EllapsedTime: 3.8 seconds RetCode: 1 Status: ERROR