Package: PICS Version: 2.51.0 Command: /Library/Frameworks/R.framework/Resources/bin/R CMD build --keep-empty-dirs --no-resave-data PICS StartedAt: 2025-02-16 17:44:47 -0500 (Sun, 16 Feb 2025) EndedAt: 2025-02-16 17:44:55 -0500 (Sun, 16 Feb 2025) EllapsedTime: 8.0 seconds RetCode: 1 Status: ERROR PackageFile: None PackageFileSize: NA