Package: PICS Version: 2.51.1 Maintainer: Renan Sauteraud MaintainerEmail: renan.sauteraud at gmail.com git_url: https://git.bioconductor.org/packages/PICS git_branch: devel git_last_commit: 6a41efc git_last_commit_date: 2025-03-26 11:16:16 -0400 (Wed, 26 Mar 2025)