Package: PICB Version: 1.1.1 Command: /Library/Frameworks/R.framework/Resources/bin/R CMD INSTALL PICB StartedAt: 2025-10-19 15:27:56 -0400 (Sun, 19 Oct 2025) EndedAt: 2025-10-19 15:28:05 -0400 (Sun, 19 Oct 2025) EllapsedTime: 8.9 seconds RetCode: 0 Status: OK