Package: PICB Version: 1.1.1 Command: /Library/Frameworks/R.framework/Resources/bin/R CMD INSTALL PICB StartedAt: 2025-10-08 15:20:47 -0400 (Wed, 08 Oct 2025) EndedAt: 2025-10-08 15:20:48 -0400 (Wed, 08 Oct 2025) EllapsedTime: 1.0 seconds RetCode: 0 Status: OK