Package: PICB Version: 1.3.0 Maintainer: Franziska Ahrend MaintainerEmail: haase-lab-bioinfo at nih.gov git_url: https://git.bioconductor.org/packages/PICB git_branch: devel git_last_commit: d455820 git_last_commit_date: 2025-10-29 11:34:05 -0500 (Wed, 29 Oct 2025)