Package: PECA Version: 1.43.0 Command: E:\biocbuild\bbs-3.21-bioc\R\bin\R.exe CMD check --no-multiarch --install=check:PECA.install-out.txt --library=E:\biocbuild\bbs-3.21-bioc\R\library --no-vignettes --timings PECA_1.43.0.tar.gz StartedAt: 2025-01-11 04:01:39 -0500 (Sat, 11 Jan 2025) EndedAt: 2025-01-11 04:04:55 -0500 (Sat, 11 Jan 2025) EllapsedTime: 196.2 seconds RetCode: 0 Status: OK CheckDir: PECA.Rcheck Warnings: 0