Package: PDATK Version: 1.17.0 Command: chmod a+r PDATK -R && F:\biocbuild\bbs-3.22-bioc\R\bin\R.exe CMD build --keep-empty-dirs --no-resave-data PDATK StartedAt: 2025-08-14 22:14:17 -0400 (Thu, 14 Aug 2025) EndedAt: 2025-08-14 22:24:40 -0400 (Thu, 14 Aug 2025) EllapsedTime: 623.1 seconds RetCode: 0 Status: OK PackageFile: PDATK_1.17.0.tar.gz PackageFileSize: 1.675 MiB