Package: PDATK Version: 1.17.0 Command: rm -rf PDATK.buildbin-libdir && mkdir PDATK.buildbin-libdir && F:\biocbuild\bbs-3.22-bioc\R\bin\R.exe CMD INSTALL --build --library=PDATK.buildbin-libdir PDATK_1.17.0.tar.gz StartedAt: 2025-08-15 10:55:56 -0400 (Fri, 15 Aug 2025) EndedAt: 2025-08-15 10:58:15 -0400 (Fri, 15 Aug 2025) EllapsedTime: 138.7 seconds RetCode: 0 Status: OK PackageFile: PDATK_1.17.0.zip PackageFileSize: 2.555 MiB