Package: PDATK Version: 1.17.0 Command: rm -rf PDATK.buildbin-libdir && mkdir PDATK.buildbin-libdir && /Users/biocbuild/BBS/utils/build-universal.sh PDATK_1.17.0.tar.gz /Library/Frameworks/R.framework/Resources/bin/R PDATK.buildbin-libdir StartedAt: 2025-05-28 00:53:25 -0400 (Wed, 28 May 2025) EndedAt: 2025-05-28 00:54:30 -0400 (Wed, 28 May 2025) EllapsedTime: 64.9 seconds RetCode: 0 Status: OK PackageFile: PDATK_1.17.0.tgz PackageFileSize: 3.878 MiB