Package: PCAtools Version: 2.21.0 Command: /home/biocbuild/R/R/bin/R CMD INSTALL PCAtools StartedAt: 2025-10-13 21:43:46 -0000 (Mon, 13 Oct 2025) EndedAt: 2025-10-13 21:44:35 -0000 (Mon, 13 Oct 2025) EllapsedTime: 48.7 seconds RetCode: 0 Status: OK